BEGIN:VCALENDAR
VERSION:2.0
PRODID:icalendar-ruby
CALSCALE:GREGORIAN
METHOD:PUBLISH
BEGIN:VEVENT
DTSTAMP:20260422T132305Z
UID:26-399512@fccmorris.org
DTSTART:20260517T170000Z
DTEND:20260517T170000Z
CLASS:PUBLIC
CREATED:20260421T070535
DESCRIPTION:Join us with your senior in highschool for a time of prayer for
  our graduates. \n 
LAST-MODIFIED:20260421T070535
LOCATION:455 W Southmor Rd
SUMMARY:Prayer for our Graduating Seniors
URL;VALUE=URI:https://www.fccmorris.org/events/prayer-for-our-graduating-se
 niors/2026-05-17
ATTACH;FILENAME=Graduation-Ceremony.jpg;FMTTYPE=image/jpeg:https://dq5pwpg1
 q8ru0.cloudfront.net/2026/04/21/14/05/06/ec4a0967-95da-4667-a5da-71e5626a4
 52e/Graduation-Ceremony.jpg
END:VEVENT
END:VCALENDAR
